BEGIN:VCALENDAR
VERSION:2.0
PRODID:-//Saalfelden-Leogang.com//NONSGML kigkonsult.se iCalcreator 2.22.1/
 /EN
METHOD:PUBLISH
X-WR-CALNAME;LANGUAGE=en:Saalfelden-Leogang.com
X-WR-CALDESC;LANGUAGE=en:Saalfelden-Leogang.com
X-WR-TIMEZONE;LANGUAGE=en:Europe/Berlin
BEGIN:VEVENT
UID:20260421T110647CEST-7019TZhkUL@Saalfelden-Leogang.com
DTSTAMP:20260421T090647Z
DESCRIPTION:
DTSTART:20240824T170000Z
DTEND:20240824T181500Z
LOCATION;LANGUAGE=en:Stadtpark Saalfelden
SUMMARY;LANGUAGE=en:Wicked Dub Division meets North East Ska*Jazz Orchestra
END:VEVENT
END:VCALENDAR
